BEGIN:VCALENDAR
VERSION:2.0
PRODID:-//collectionHQ - ECPv6.15.20//NONSGML v1.0//EN
CALSCALE:GREGORIAN
METHOD:PUBLISH
X-WR-CALNAME:collectionHQ
X-ORIGINAL-URL:https://www.collectionhq.com
X-WR-CALDESC:Events for collectionHQ
REFRESH-INTERVAL;VALUE=DURATION:PT1H
X-Robots-Tag:noindex
X-PUBLISHED-TTL:PT1H
BEGIN:VTIMEZONE
TZID:UTC
BEGIN:STANDARD
TZOFFSETFROM:+0000
TZOFFSETTO:+0000
TZNAME:UTC
DTSTART:20230101T000000
END:STANDARD
END:VTIMEZONE
BEGIN:VEVENT
DTSTART;TZID=UTC:20240710T090000
DTEND;TZID=UTC:20240711T170000
DTSTAMP:20260423T173849
CREATED:20240612T140416Z
LAST-MODIFIED:20240612T140444Z
UID:6561-1720602000-1720717200@www.collectionhq.com
SUMMARY:CILIP Conference 2024
DESCRIPTION:Join the collectionHQ team at the CILIP Conference 2024 in the Hilton Birmingham Metropole. We look forward to discussing all things collection management with you then!
URL:https://www.collectionhq.com/event/cilip-conference-2024/
LOCATION:Hilton Birmingham Metropole\, National Exhibition Centre\, Birmingham\, B40 1PP\, United Kingdom
END:VEVENT
END:VCALENDAR