BEGIN:VCALENDAR
VERSION:2.0
PRODID:-//collectionHQ - ECPv6.15.20//NONSGML v1.0//EN
CALSCALE:GREGORIAN
METHOD:PUBLISH
X-WR-CALNAME:collectionHQ
X-ORIGINAL-URL:https://www.collectionhq.com
X-WR-CALDESC:Events for collectionHQ
REFRESH-INTERVAL;VALUE=DURATION:PT1H
X-Robots-Tag:noindex
X-PUBLISHED-TTL:PT1H
BEGIN:VTIMEZONE
TZID:UTC
BEGIN:STANDARD
TZOFFSETFROM:+0000
TZOFFSETTO:+0000
TZNAME:UTC
DTSTART:20220101T000000
END:STANDARD
END:VTIMEZONE
BEGIN:VEVENT
DTSTART;TZID=UTC:20231114T090000
DTEND;TZID=UTC:20231117T180000
DTSTAMP:20260424T064603
CREATED:20231018T091911Z
LAST-MODIFIED:20231018T094050Z
UID:6062-1699952400-1700244000@www.collectionhq.com
SUMMARY:SWITCH - New South Wales Public Libraries Association
DESCRIPTION:Come and meet Nadeera from collectionHQ on the James Bennett booth at the SWITCH Annual Conference of the New South Wales Public Libraries Association! Special prizes and giveaways will be up for grabs and we’ll be showcasing the latest library collection management solutions.
URL:https://www.collectionhq.com/event/switch-new-south-wales-public-libraries-association/
LOCATION:Penrith Panthers Exhibition Marquee\, 123 Mulgoa Rd\, Penrith\, NSW\, 2750\, Australia
END:VEVENT
END:VCALENDAR